BEGIN:VCALENDAR
VERSION:2.0
PRODID:-//NEORQCOnline.org - ECPv6.15.20//NONSGML v1.0//EN
CALSCALE:GREGORIAN
METHOD:PUBLISH
X-WR-CALNAME:NEORQCOnline.org
X-ORIGINAL-URL:https://www.neorqconline.org
X-WR-CALDESC:Events for NEORQCOnline.org
REFRESH-INTERVAL;VALUE=DURATION:PT1H
X-Robots-Tag:noindex
X-PUBLISHED-TTL:PT1H
BEGIN:VTIMEZONE
TZID:America/New_York
BEGIN:DAYLIGHT
TZOFFSETFROM:-0500
TZOFFSETTO:-0400
TZNAME:EDT
DTSTART:20250309T070000
END:DAYLIGHT
BEGIN:STANDARD
TZOFFSETFROM:-0400
TZOFFSETTO:-0500
TZNAME:EST
DTSTART:20251102T060000
END:STANDARD
BEGIN:DAYLIGHT
TZOFFSETFROM:-0500
TZOFFSETTO:-0400
TZNAME:EDT
DTSTART:20260308T070000
END:DAYLIGHT
BEGIN:STANDARD
TZOFFSETFROM:-0400
TZOFFSETTO:-0500
TZNAME:EST
DTSTART:20261101T060000
END:STANDARD
BEGIN:DAYLIGHT
TZOFFSETFROM:-0500
TZOFFSETTO:-0400
TZNAME:EDT
DTSTART:20270314T070000
END:DAYLIGHT
BEGIN:STANDARD
TZOFFSETFROM:-0400
TZOFFSETTO:-0500
TZNAME:EST
DTSTART:20271107T060000
END:STANDARD
END:VTIMEZONE
BEGIN:VEVENT
DTSTART;TZID=America/New_York:20260911T100000
DTEND;TZID=America/New_York:20260930T170000
DTSTAMP:20260425T071421
CREATED:20260309T172035Z
LAST-MODIFIED:20260309T172816Z
UID:17469-1789120800-1790787600@www.neorqconline.org
SUMMARY:Willoughby Hills Quilt Exhibit | September 11-30\,2026
DESCRIPTION:« All Events\n 				\n				\n				\n				\n					\n	Willoughby Hills Quilt Exhibit | September 11-30\,2026				\n				\n				\n				\n					\n		\n			September 11\n\n	\n\n	  @  \n\n\n10:00 am\n\n	\n\n		\n	\n	  -  \n\n	September 30\n\n	\n\n	  @  \n\n\n5:00 pm\n\n\n\n	\n				\n				\n				\n				\n																														\n				\n				\n						\n					\n			\n							\n		\n				\n			\n						\n				\n					\n	\n	Willoughby Hills Quilt Guild\n	\n	\n\n	Phone:\n					\n						\n	 \n\n\n	\n\n	Website:View Organizer Website \n\n\n	\n	Email:\n					\n						\n	 \n\n\n\n				\n				\n					\n		\n					\n		\n				\n						\n					\n			\n						\n				\n					\n				\n				\n	\n	Willoughby Hills Community Center\n	\n	\n\n35400 Chardon Road\n	\n		\n		Willoughby Hills\,\n\n	OH\n\n	44094\n\n	United States\n\n\n\n\n	+ Google Map \n\n\n	\n					\n						\n	 \n\n\n	\n	 \n\n\n\n	\n\n\n\n		\n	\n				\n				\n					\n		\n					\n		\n				\n						\n					\n			\n						\n				\n					\n	\n		\n\n	\n	Add to calendar	\n		\n	\n\n		\n			\n									\n	Google Calendar\n\n									\n	iCalendar\n\n									\n	Outlook 365\n\n									\n	Outlook Live\n\n							\n		\n\n		\n	\n\n				\n				\n					\n		\n					\n		\n				\n						\n					\n			\n						\n				\n					\n	\n		\n\n				United Quilt Guild's 14th Biennial Quilt Show | June 19-20\, 2026	\n\n\n		\n	\n		NEORQC General Meeting:  October 3\, 2026
URL:https://www.neorqconline.org/event/willoughby-hills-quilt-exhibit-september-11-302026/
LOCATION:Willoughby Hills Community Center\, 35400 Chardon Road\, Willoughby Hills\, OH\, 44094\, United States
END:VEVENT
END:VCALENDAR