BEGIN:VCALENDAR
VERSION:2.0
PRODID:-//NEORQCOnline.org - ECPv6.15.20//NONSGML v1.0//EN
CALSCALE:GREGORIAN
METHOD:PUBLISH
X-ORIGINAL-URL:https://www.neorqconline.org
X-WR-CALDESC:Events for NEORQCOnline.org
REFRESH-INTERVAL;VALUE=DURATION:PT1H
X-Robots-Tag:noindex
X-PUBLISHED-TTL:PT1H
BEGIN:VTIMEZONE
TZID:America/New_York
BEGIN:DAYLIGHT
TZOFFSETFROM:-0500
TZOFFSETTO:-0400
TZNAME:EDT
DTSTART:20250309T070000
END:DAYLIGHT
BEGIN:STANDARD
TZOFFSETFROM:-0400
TZOFFSETTO:-0500
TZNAME:EST
DTSTART:20251102T060000
END:STANDARD
BEGIN:DAYLIGHT
TZOFFSETFROM:-0500
TZOFFSETTO:-0400
TZNAME:EDT
DTSTART:20260308T070000
END:DAYLIGHT
BEGIN:STANDARD
TZOFFSETFROM:-0400
TZOFFSETTO:-0500
TZNAME:EST
DTSTART:20261101T060000
END:STANDARD
BEGIN:DAYLIGHT
TZOFFSETFROM:-0500
TZOFFSETTO:-0400
TZNAME:EDT
DTSTART:20270314T070000
END:DAYLIGHT
BEGIN:STANDARD
TZOFFSETFROM:-0400
TZOFFSETTO:-0500
TZNAME:EST
DTSTART:20271107T060000
END:STANDARD
END:VTIMEZONE
BEGIN:VEVENT
DTSTART;TZID=America/New_York:20261009T100000
DTEND;TZID=America/New_York:20261010T030000
DTSTAMP:20260425T094655
CREATED:20260121T193222Z
LAST-MODIFIED:20260122T002616Z
UID:16711-1791540000-1791601200@www.neorqconline.org
SUMMARY:Valley Quilt Show
DESCRIPTION:United Quilt Guild’s 14th Biennial Quilt Show | June 19-20\, 2026				\n				\n				\n				\n					\n	« All Events\n 				\n				\n				\n				\n					\n		\n			June 19\n\n	\n\n	  @  \n\n\n10:00 am\n\n	\n\n		\n	\n	  -  \n\n	June 20\n\n	\n\n	  @  \n\n\n5:00 pm\n\n\n\n	\n				\n				\n				\n				\n																														\n				\n				\n						\n					\n			\n						\n				\n					\n	\n\n	Categories:	\n		Guild Event\, Quilt Exhibit	\n\n				\n				\n				\n				\n					\n	\n	Website:	\n	www.unitedquiltguild..org\n\n				\n				\n					\n		\n				\n			\n						\n				\n					\n	\n	United Quilt Guild\n	\n	\n\n	Phone:\n					\n						\n	 \n\n\n	\n\n	Website: \n\n\n	\n	Email:\n					\n						\n	 \n\n\n\n				\n				\n					\n		\n					\n		\n				\n						\n					\n			\n						\n				\n					\n				\n				\n	\n	Center Plex\n	\n	\n\n1028 N Ellsworth Aveue\n	\n		\n		Salem\,\n\n	OH\n\n	44460\n\n	United States\n\n\n\n\n	+ Google Map \n\n\n	\n					\n						\n	 \n\n\n	\n	 \n\n\n\n	\n\n\n\n		\n	\n				\n				\n					\n		\n					\n		\n				\n						\n					\n			\n						\n				\n					\n	\n		\n\n	\n	Add to calendar	\n		\n	\n\n		\n			\n									\n	Google Calendar\n\n									\n	iCalendar\n\n									\n	Outlook 365\n\n									\n	Outlook Live\n\n							\n		\n\n		\n	\n\n				\n				\n					\n		\n					\n		\n				\n						\n					\n			\n						\n				\n					\n	\n		\n\n				NEORQC General Meeting: June 6\, 2026	\n\n\n		\n	\n		Willoughby Hills Quilt Exhibit | September 11-30\,2026
URL:https://www.neorqconline.org/event/valley-quilt-show/
LOCATION:Sacred Heart Church Parish Center\, 320 Fair Avenue NE\, New Philadelpha\, OH\, 44663\, United States
CATEGORIES:Quilt Event,Quilt Exhibit
END:VEVENT
END:VCALENDAR